BEGIN:VCALENDAR
VERSION:2.0
PRODID:-//Sports Bar, Live Bands Ocean City MD Beach Barrels - ECPv5.14.0.4//NONSGML v1.0//EN
CALSCALE:GREGORIAN
METHOD:PUBLISH
X-WR-CALNAME:Sports Bar, Live Bands Ocean City MD Beach Barrels
X-ORIGINAL-URL:https://beachbarrels.com
X-WR-CALDESC:Events for Sports Bar, Live Bands Ocean City MD Beach Barrels
REFRESH-INTERVAL;VALUE=DURATION:PT1H
X-Robots-Tag:noindex
X-PUBLISHED-TTL:PT1H
BEGIN:VTIMEZONE
TZID:America/New_York
BEGIN:DAYLIGHT
TZOFFSETFROM:-0500
TZOFFSETTO:-0400
TZNAME:EDT
DTSTART:20260308T070000
END:DAYLIGHT
BEGIN:STANDARD
TZOFFSETFROM:-0400
TZOFFSETTO:-0500
TZNAME:EST
DTSTART:20261101T060000
END:STANDARD
END:VTIMEZONE
BEGIN:VEVENT
DTSTART;TZID=America/New_York:20260328T163000
DTEND;TZID=America/New_York:20260328T193000
DTSTAMP:20260424T135952
CREATED:20260303T163331Z
LAST-MODIFIED:20260303T163331Z
UID:5156-1774715400-1774726200@beachbarrels.com
SUMMARY:Monkee Paw Duo
DESCRIPTION:
URL:https://beachbarrels.com/event/monkee-paw-duo-2/
LOCATION:Beach Barrels
END:VEVENT
BEGIN:VEVENT
DTSTART;TZID=America/New_York:20260328T200000
DTEND;TZID=America/New_York:20260328T230000
DTSTAMP:20260424T135952
CREATED:20260328T204704Z
LAST-MODIFIED:20260328T204704Z
UID:5239-1774728000-1774738800@beachbarrels.com
SUMMARY:Sketchbook
DESCRIPTION:
URL:https://beachbarrels.com/event/sketchbook/
LOCATION:Beach Barrels
END:VEVENT
END:VCALENDAR