BEGIN:VCALENDAR
VERSION:2.0
PRODID:-//Sports Bar, Live Bands Ocean City MD Beach Barrels - ECPv5.14.0.4//NONSGML v1.0//EN
CALSCALE:GREGORIAN
METHOD:PUBLISH
X-WR-CALNAME:Sports Bar, Live Bands Ocean City MD Beach Barrels
X-ORIGINAL-URL:https://beachbarrels.com
X-WR-CALDESC:Events for Sports Bar, Live Bands Ocean City MD Beach Barrels
REFRESH-INTERVAL;VALUE=DURATION:PT1H
X-Robots-Tag:noindex
X-PUBLISHED-TTL:PT1H
BEGIN:VTIMEZONE
TZID:America/New_York
BEGIN:DAYLIGHT
TZOFFSETFROM:-0500
TZOFFSETTO:-0400
TZNAME:EDT
DTSTART:20260308T070000
END:DAYLIGHT
BEGIN:STANDARD
TZOFFSETFROM:-0400
TZOFFSETTO:-0500
TZNAME:EST
DTSTART:20261101T060000
END:STANDARD
END:VTIMEZONE
BEGIN:VEVENT
DTSTART;TZID=America/New_York:20260314T163000
DTEND;TZID=America/New_York:20260314T193000
DTSTAMP:20260424T140018
CREATED:20260303T162507Z
LAST-MODIFIED:20260303T162507Z
UID:5136-1773505800-1773516600@beachbarrels.com
SUMMARY:High Five Swan Dive
DESCRIPTION:
URL:https://beachbarrels.com/event/high-five-swan-dive-2/
LOCATION:Beach Barrels
END:VEVENT
BEGIN:VEVENT
DTSTART;TZID=America/New_York:20260314T200000
DTEND;TZID=America/New_York:20260314T230000
DTSTAMP:20260424T140018
CREATED:20260303T162549Z
LAST-MODIFIED:20260303T162549Z
UID:5138-1773518400-1773529200@beachbarrels.com
SUMMARY:HFS Band
DESCRIPTION:
URL:https://beachbarrels.com/event/hfs-band-6/
LOCATION:Beach Barrels
END:VEVENT
END:VCALENDAR