BEGIN:VCALENDAR
VERSION:2.0
PRODID:-//Sports Bar, Live Bands Ocean City MD Beach Barrels - ECPv5.14.0.4//NONSGML v1.0//EN
CALSCALE:GREGORIAN
METHOD:PUBLISH
X-WR-CALNAME:Sports Bar, Live Bands Ocean City MD Beach Barrels
X-ORIGINAL-URL:https://beachbarrels.com
X-WR-CALDESC:Events for Sports Bar, Live Bands Ocean City MD Beach Barrels
REFRESH-INTERVAL;VALUE=DURATION:PT1H
X-Robots-Tag:noindex
X-PUBLISHED-TTL:PT1H
BEGIN:VTIMEZONE
TZID:America/New_York
BEGIN:DAYLIGHT
TZOFFSETFROM:-0500
TZOFFSETTO:-0400
TZNAME:EDT
DTSTART:20260308T070000
END:DAYLIGHT
BEGIN:STANDARD
TZOFFSETFROM:-0400
TZOFFSETTO:-0500
TZNAME:EST
DTSTART:20261101T060000
END:STANDARD
END:VTIMEZONE
BEGIN:VEVENT
DTSTART;TZID=America/New_York:20260306T163000
DTEND;TZID=America/New_York:20260306T193000
DTSTAMP:20260424T135941
CREATED:20260303T161933Z
LAST-MODIFIED:20260303T161933Z
UID:5122-1772814600-1772825400@beachbarrels.com
SUMMARY:Jack Worthington
DESCRIPTION:
URL:https://beachbarrels.com/event/jack-worthington-12/
LOCATION:Beach Barrels
END:VEVENT
BEGIN:VEVENT
DTSTART;TZID=America/New_York:20260306T200000
DTEND;TZID=America/New_York:20260306T230000
DTSTAMP:20260424T135941
CREATED:20260303T162031Z
LAST-MODIFIED:20260303T162031Z
UID:5124-1772827200-1772838000@beachbarrels.com
SUMMARY:Sonic OCM
DESCRIPTION:
URL:https://beachbarrels.com/event/sonic-ocm-3/
LOCATION:Beach Barrels
END:VEVENT
END:VCALENDAR