BEGIN:VCALENDAR
VERSION:2.0
PRODID:-//Sports Bar, Live Bands Ocean City MD Beach Barrels - ECPv5.14.0.4//NONSGML v1.0//EN
CALSCALE:GREGORIAN
METHOD:PUBLISH
X-WR-CALNAME:Sports Bar, Live Bands Ocean City MD Beach Barrels
X-ORIGINAL-URL:https://beachbarrels.com
X-WR-CALDESC:Events for Sports Bar, Live Bands Ocean City MD Beach Barrels
REFRESH-INTERVAL;VALUE=DURATION:PT1H
X-Robots-Tag:noindex
X-PUBLISHED-TTL:PT1H
BEGIN:VTIMEZONE
TZID:America/New_York
BEGIN:DAYLIGHT
TZOFFSETFROM:-0500
TZOFFSETTO:-0400
TZNAME:EDT
DTSTART:20260308T070000
END:DAYLIGHT
BEGIN:STANDARD
TZOFFSETFROM:-0400
TZOFFSETTO:-0500
TZNAME:EST
DTSTART:20261101T060000
END:STANDARD
END:VTIMEZONE
BEGIN:VEVENT
DTSTART;TZID=America/New_York:20260214T163000
DTEND;TZID=America/New_York:20260214T193000
DTSTAMP:20260424T153738
CREATED:20251231T232348Z
LAST-MODIFIED:20251231T232348Z
UID:5024-1771086600-1771097400@beachbarrels.com
SUMMARY:Sax O Beat
DESCRIPTION:
URL:https://beachbarrels.com/event/sax-o-beat-7/
LOCATION:Beach Barrels
END:VEVENT
BEGIN:VEVENT
DTSTART;TZID=America/New_York:20260214T200000
DTEND;TZID=America/New_York:20260214T230000
DTSTAMP:20260424T153738
CREATED:20251231T232416Z
LAST-MODIFIED:20251231T232416Z
UID:5026-1771099200-1771110000@beachbarrels.com
SUMMARY:High Swan Dive Trio
DESCRIPTION:
URL:https://beachbarrels.com/event/high-swan-dive-trio/
LOCATION:Beach Barrels
END:VEVENT
END:VCALENDAR