BEGIN:VCALENDAR
VERSION:2.0
PRODID:-//Sports Bar, Live Bands Ocean City MD Beach Barrels - ECPv5.14.0.4//NONSGML v1.0//EN
CALSCALE:GREGORIAN
METHOD:PUBLISH
X-WR-CALNAME:Sports Bar, Live Bands Ocean City MD Beach Barrels
X-ORIGINAL-URL:https://beachbarrels.com
X-WR-CALDESC:Events for Sports Bar, Live Bands Ocean City MD Beach Barrels
REFRESH-INTERVAL;VALUE=DURATION:PT1H
X-Robots-Tag:noindex
X-PUBLISHED-TTL:PT1H
BEGIN:VTIMEZONE
TZID:America/New_York
BEGIN:DAYLIGHT
TZOFFSETFROM:-0500
TZOFFSETTO:-0400
TZNAME:EDT
DTSTART:20260308T070000
END:DAYLIGHT
BEGIN:STANDARD
TZOFFSETFROM:-0400
TZOFFSETTO:-0500
TZNAME:EST
DTSTART:20261101T060000
END:STANDARD
END:VTIMEZONE
BEGIN:VEVENT
DTSTART;TZID=America/New_York:20260131T163000
DTEND;TZID=America/New_York:20260131T193000
DTSTAMP:20260424T152444
CREATED:20251231T231805Z
LAST-MODIFIED:20251231T231805Z
UID:5006-1769877000-1769887800@beachbarrels.com
SUMMARY:Johnny Suite
DESCRIPTION:
URL:https://beachbarrels.com/event/johnny-suite/
LOCATION:Beach Barrels
END:VEVENT
BEGIN:VEVENT
DTSTART;TZID=America/New_York:20260131T200000
DTEND;TZID=America/New_York:20260131T230000
DTSTAMP:20260424T152444
CREATED:20251231T231847Z
LAST-MODIFIED:20251231T231847Z
UID:5008-1769889600-1769900400@beachbarrels.com
SUMMARY:Chest Pains
DESCRIPTION:
URL:https://beachbarrels.com/event/chest-pains-5/
LOCATION:Beach Barrels
END:VEVENT
END:VCALENDAR